BEGIN:VCALENDAR
VERSION:2.0
PRODID:-//www.morvenpark.org//NONSGML kigkonsult.se iCalcreator 2.30.10//
CALSCALE:GREGORIAN
METHOD:PUBLISH
UID:1df28c20-34ff-49fa-9ad0-c75c20bf49ce
X-WR-CALDESC:Interested in frogs\, toads and salamanders? Become a Loudoun 
 Wildlife Conservancy amphibian monitoring volunteer and learn about monito
 ring protocol\, gear needed and species you will encounter. Registration r
 equired.
X-WR-RELCALID:e0ec46f959d1e43fa96e247b53cba3fd
X-WR-TIMEZONE:America/New_York
BEGIN:VTIMEZONE
TZID:America/New_York
BEGIN:STANDARD
TZNAME:EST
DTSTART:20131103T020000
TZOFFSETFROM:-0400
TZOFFSETTO:-0500
RDATE:20141102T020000
END:STANDARD
BEGIN:DAYLIGHT
TZNAME:EDT
DTSTART:20130310T020000
TZOFFSETFROM:-0500
TZOFFSETTO:-0400
RDATE:20140309T020000
RDATE:20150308T020000
END:DAYLIGHT
END:VTIMEZONE
BEGIN:VEVENT
UID:6f99f92d-5ada-4b3d-947d-b5e4b84fc65e
DTSTAMP:20260419T195555Z
DESCRIPTION:Interested in frogs\, toads and salamanders? Become a Loudoun W
 ildlife Conservancy amphibian monitoring volunteer and learn about monitor
 ing protocol\, gear needed and species you will encounter. Registration re
 quired.
DTSTART;TZID=America/New_York:20140211T183000
DTEND;TZID=America/New_York:20140211T203000
LOCATION:Morven Park
SUMMARY:Amphibian Monitoring Kickoff
END:VEVENT
END:VCALENDAR
