BEGIN:VCALENDAR
VERSION:2.0
PRODID:-//www.morvenpark.org//NONSGML kigkonsult.se iCalcreator 2.30.10//
CALSCALE:GREGORIAN
METHOD:PUBLISH
UID:8b5e572b-4bda-42f0-8512-c7531626b57d
X-WR-CALDESC:Yes! This event will be happening! \n$50. Proper safety attire
  2014 waiver & current coggins required.
X-WR-RELCALID:25211f0218c3fedeec9520c493c5c5af
X-WR-TIMEZONE:America/New_York
BEGIN:VTIMEZONE
TZID:America/New_York
BEGIN:STANDARD
TZNAME:EST
DTSTART:20131103T020000
TZOFFSETFROM:-0400
TZOFFSETTO:-0500
RDATE:20141102T020000
END:STANDARD
BEGIN:DAYLIGHT
TZNAME:EDT
DTSTART:20140309T020000
TZOFFSETFROM:-0500
TZOFFSETTO:-0400
RDATE:20150308T020000
END:DAYLIGHT
END:VTIMEZONE
BEGIN:VEVENT
UID:bc9cd61d-20e5-4f79-99fb-f55c2ba56596
DTSTAMP:20260419T195423Z
DESCRIPTION:Yes! This event will be happening! \n$50. Proper safety attire 
 2014 waiver & current coggins required.
DTSTART;TZID=America/New_York:20140401T090000
DTEND;TZID=America/New_York:20140401T160000
LOCATION:
SUMMARY:Cross Country Schooling Day
END:VEVENT
END:VCALENDAR
