BEGIN:VCALENDAR
VERSION:2.0
PRODID:-//www.morvenpark.org//NONSGML kigkonsult.se iCalcreator 2.30.10//
CALSCALE:GREGORIAN
METHOD:PUBLISH
UID:f82577ac-b804-4ecb-911f-4d96ca16a6ed
X-WR-CALDESC:Inspired by the history of Morven Park\, ACTION students learn
  to make a difference by creating public policy proposals addressing real 
 issues. This exciting program is for high school students in Northern Virg
 inia\, and meets Wednesday evenings February through May.  Application ava
 ilable below.\n
X-WR-RELCALID:8e8de0b7838cdde6b1cb3c659015ae31
X-WR-TIMEZONE:America/New_York
BEGIN:VTIMEZONE
TZID:America/New_York
BEGIN:STANDARD
TZNAME:EST
DTSTART:20141102T020000
TZOFFSETFROM:-0400
TZOFFSETTO:-0500
RDATE:20151101T020000
END:STANDARD
BEGIN:DAYLIGHT
TZNAME:EDT
DTSTART:20140309T020000
TZOFFSETFROM:-0500
TZOFFSETTO:-0400
RDATE:20150308T020000
RDATE:20160313T020000
END:DAYLIGHT
END:VTIMEZONE
BEGIN:VEVENT
UID:30173bbf-893d-4ae9-b09a-922158a9ea76
DTSTAMP:20260419T174903Z
DESCRIPTION:Inspired by the history of Morven Park\, ACTION students learn 
 to make a difference by creating public policy proposals addressing real i
 ssues. This exciting program is for high school students in Northern Virgi
 nia\, and meets Wednesday evenings February through May.  Application avai
 lable below.\n
DTSTART;TZID=America/New_York:20150123T000000
DTEND;TZID=America/New_York:20150123T235900
LOCATION:
SUMMARY:ACTION Spring 2015 Applications Due
END:VEVENT
END:VCALENDAR
