BEGIN:VCALENDAR
VERSION:2.0
PRODID:-//www.morvenpark.org//NONSGML kigkonsult.se iCalcreator 2.30.10//
CALSCALE:GREGORIAN
METHOD:PUBLISH
UID:550e8412-7fc0-4cbe-a8ae-44c0ab1a5d9f
X-WR-CALDESC:<b>The 2021 season of Polo in the Park is here!</b>\nPolo in t
 he Park begins on July 17th and continues every Saturday night through Aug
 ust 21st\, with gates opening at 6:00 p.m. each weekend.\n\nGeneral Admiss
 ion car passes are $40. A car pass allows for one vehicle and all of its o
 ccupants to enter the event.\nTo attend Polo in the Park you must purchase
  a car pass in advance. There will be no cash sales at the gate.\n<b>TO PU
 RCHASE A CAR PASS\, CLICK ON THE RED BUTTON AT THE TOP RIGHT CORNER OF THI
 S PAGE </b>\n\nA few tips for a successful transaction: \n•<b>Make sure yo
 u are purchasing a car pass for the date that you plan to attend. </b> Car
  passes are valid for ONE polo match\, not for the entire season and are n
 on-transferable.  \n•<b>Double check your email address. </b> We will send
  your receipt to the email you provide. To gain entry to this event you wi
 ll be asked to show your receipt and ID/Driver's License.\n•All payments a
 re processed via PayPal. You may check out using your PayPal account\, or 
 choose the “Guest” checkout feature and enter your credit card details int
 o PayPal. \n•Also\, should you choose to Uber to polo\, ride a bike\, or b
 e dropped off at the gates\, you still need to purchase a car pass to gain
  entry to the event. \n•ALL SALES ARE FINAL. NO REFUNDS WILL BE ISSUED.\n
 \nPLEASE NOTE: Polo in the Park may be canceled due to inclement weather. 
 A cancellation decision will be posted on PolointhePark.org by 4:00 p.m. o
 n the day of a scheduled match. In the event of cancellation\, your car pa
 ss will be valid for the following week's polo match OR for the rain date 
 (August 28\, 2021). \n\nQUESTIONS? Email us at Polo@MorvenPark.org. Follow
  Morven Park on Facebook for updates on tailgate spots\, weekly food vendo
 rs\, and more.\n\n\n<b>The 2021 season of Polo in the Park is made possibl
 e by our generous sponsors!</b>\nMorven Park extends its thanks to Climati
 c Heating & Cooling\, AMJ Financial\, Lauten Design & Construction\, and S
 alesforce.com for their support\, and to NetJets for sponsoring this year’
 s CEO Polo match and launch party. To inquire about additional sponsorship
  opportunities\, please contact StrategicPartnerships@MorvenPark.org.\n\n
X-WR-RELCALID:eb835ab4cd36543201f9c5e9dfdc6e1a
X-WR-TIMEZONE:America/New_York
BEGIN:VTIMEZONE
TZID:America/New_York
BEGIN:STANDARD
TZNAME:EST
DTSTART:20201101T020000
TZOFFSETFROM:-0400
TZOFFSETTO:-0500
RDATE:20211107T020000
RDATE:20221106T020000
END:STANDARD
BEGIN:DAYLIGHT
TZNAME:EDT
DTSTART:20210314T020000
TZOFFSETFROM:-0500
TZOFFSETTO:-0400
RDATE:20220313T020000
END:DAYLIGHT
END:VTIMEZONE
BEGIN:VEVENT
UID:37452883-dacd-4198-8712-f8bef25763e2
DTSTAMP:20260423T151950Z
DESCRIPTION:<b>The 2021 season of Polo in the Park is here!</b>\nPolo in th
 e Park begins on July 17th and continues every Saturday night through Augu
 st 21st\, with gates opening at 6:00 p.m. each weekend.\n\nGeneral Admissi
 on car passes are $40. A car pass allows for one vehicle and all of its oc
 cupants to enter the event.\nTo attend Polo in the Park you must purchase 
 a car pass in advance. There will be no cash sales at the gate.\n<b>TO PUR
 CHASE A CAR PASS\, CLICK ON THE RED BUTTON AT THE TOP RIGHT CORNER OF THIS
  PAGE </b>\n\nA few tips for a successful transaction: \n•<b>Make sure you
  are purchasing a car pass for the date that you plan to attend. </b> Car 
 passes are valid for ONE polo match\, not for the entire season and are no
 n-transferable.  \n•<b>Double check your email address. </b> We will send 
 your receipt to the email you provide. To gain entry to this event you wil
 l be asked to show your receipt and ID/Driver's License.\n•All payments ar
 e processed via PayPal. You may check out using your PayPal account\, or c
 hoose the “Guest” checkout feature and enter your credit card details into
  PayPal. \n•Also\, should you choose to Uber to polo\, ride a bike\, or be
  dropped off at the gates\, you still need to purchase a car pass to gain 
 entry to the event. \n•ALL SALES ARE FINAL. NO REFUNDS WILL BE ISSUED.\n\n
 PLEASE NOTE: Polo in the Park may be canceled due to inclement weather. A 
 cancellation decision will be posted on PolointhePark.org by 4:00 p.m. on 
 the day of a scheduled match. In the event of cancellation\, your car pass
  will be valid for the following week's polo match OR for the rain date (A
 ugust 28\, 2021). \n\nQUESTIONS? Email us at Polo@MorvenPark.org. Follow M
 orven Park on Facebook for updates on tailgate spots\, weekly food vendors
 \, and more.\n\n\n<b>The 2021 season of Polo in the Park is made possible 
 by our generous sponsors!</b>\nMorven Park extends its thanks to Climatic 
 Heating & Cooling\, AMJ Financial\, Lauten Design & Construction\, and Sal
 esforce.com for their support\, and to NetJets for sponsoring this year’s 
 CEO Polo match and launch party. To inquire about additional sponsorship o
 pportunities\, please contact StrategicPartnerships@MorvenPark.org.\n\n
DTSTART;TZID=America/New_York:20210724T000000
DTEND;TZID=America/New_York:20210724T235900
LOCATION:Morven Park International Equestrian Center \, 41580 Sunday Mornin
 g Lane\, Leesburg\, VA 20176\, LEESBURG\, VA 20176 US
SUMMARY:Polo in the Park - July 24
END:VEVENT
END:VCALENDAR
