BEGIN:VCALENDAR
VERSION:2.0
PRODID:-//www.morvenpark.org//NONSGML kigkonsult.se iCalcreator 2.30.10//
CALSCALE:GREGORIAN
METHOD:PUBLISH
UID:424343e6-2f75-4be1-a9f2-8b37d462fbdb
X-WR-CALDESC:#BestPartyinLoudoun\, Polo in the Park\, is back! Make plans t
 o spend your Saturday nights with us this Summer\, starting June 8th throu
 gh August 10th (there will be no Polo in the Park on July 6th).
X-WR-RELCALID:eb4321b5976a0a992851064070adf7d2
X-WR-TIMEZONE:America/New_York
BEGIN:VTIMEZONE
TZID:America/New_York
BEGIN:STANDARD
TZNAME:EST
DTSTART:20231105T020000
TZOFFSETFROM:-0400
TZOFFSETTO:-0500
RDATE:20241103T020000
RDATE:20251102T020000
END:STANDARD
BEGIN:DAYLIGHT
TZNAME:EDT
DTSTART:20240310T020000
TZOFFSETFROM:-0500
TZOFFSETTO:-0400
RDATE:20250309T020000
END:DAYLIGHT
END:VTIMEZONE
BEGIN:VEVENT
UID:a62804dd-53e7-4959-9c5d-67a318da0f60
DTSTAMP:20260425T110937Z
DESCRIPTION:#BestPartyinLoudoun\, Polo in the Park\, is back! Make plans to
  spend your Saturday nights with us this Summer\, starting June 8th throug
 h August 10th (there will be no Polo in the Park on July 6th).
DTSTART;TZID=America/New_York:20240810T180000
DTEND;TZID=America/New_York:20240810T210000
LOCATION:17195 Southern Planter Lane\, Leesburg\, Virginia\, VA 20176 US
SUMMARY:Polo in the Park
END:VEVENT
END:VCALENDAR
