BEGIN:VCALENDAR
VERSION:2.0
PRODID:-//www.morvenpark.org//NONSGML kigkonsult.se iCalcreator 2.30.10//
CALSCALE:GREGORIAN
METHOD:PUBLISH
UID:f9895cb3-6a3f-4e19-abcc-d3804998835b
X-WR-CALDESC:Members and Donors-Only holiday celebration held inside the Da
 vis Mansion\, fully decorated for the season.
X-WR-RELCALID:5301265f1cf7b0cf694fb198aeb5cc3f
X-WR-TIMEZONE:America/New_York
BEGIN:VTIMEZONE
TZID:America/New_York
BEGIN:STANDARD
TZNAME:EST
DTSTART:20251102T020000
TZOFFSETFROM:-0400
TZOFFSETTO:-0500
RDATE:20261101T020000
END:STANDARD
BEGIN:DAYLIGHT
TZNAME:EDT
DTSTART:20250309T020000
TZOFFSETFROM:-0500
TZOFFSETTO:-0400
RDATE:20260308T020000
RDATE:20270314T020000
END:DAYLIGHT
END:VTIMEZONE
BEGIN:VEVENT
UID:4647cde1-f65b-44c0-9188-12a40f70ccec
DTSTAMP:20260424T175201Z
DESCRIPTION:Members and Donors-Only holiday celebration held inside the Dav
 is Mansion\, fully decorated for the season.
DTSTART;TZID=America/New_York:20251207T140000
DTEND;TZID=America/New_York:20251207T160000
LOCATION:17195 Southern Planter Lane\, Leesburg\, VA 20176 US
SUMMARY:Yuletide in the Park
END:VEVENT
END:VCALENDAR
