BEGIN:VCALENDAR
VERSION:2.0
PRODID:-//www.morvenpark.org//NONSGML kigkonsult.se iCalcreator 2.30.10//
CALSCALE:GREGORIAN
METHOD:PUBLISH
UID:dadb90b7-1bf2-490e-a828-f930d924fd7e
X-WR-CALDESC:David Roettger will share some of the more interesting pieces 
 of the Davis Collection. He will also give an overview of our yearly deep 
 clean process and all the work that goes into keeping the collection stabl
 e and available for future generations.
X-WR-RELCALID:8a00e877b69125ea86b6006c04c46d26
X-WR-TIMEZONE:America/New_York
BEGIN:VTIMEZONE
TZID:America/New_York
BEGIN:STANDARD
TZNAME:EST
DTSTART:20251102T020000
TZOFFSETFROM:-0400
TZOFFSETTO:-0500
RDATE:20261101T020000
END:STANDARD
BEGIN:DAYLIGHT
TZNAME:EDT
DTSTART:20250309T020000
TZOFFSETFROM:-0500
TZOFFSETTO:-0400
RDATE:20260308T020000
RDATE:20270314T020000
END:DAYLIGHT
END:VTIMEZONE
BEGIN:VEVENT
UID:1ccdc2f0-bd36-4ac5-a358-af5ff6f3ceda
DTSTAMP:20260424T143922Z
DESCRIPTION:David Roettger will share some of the more interesting pieces o
 f the Davis Collection. He will also give an overview of our yearly deep c
 lean process and all the work that goes into keeping the collection stable
  and available for future generations.
DTSTART;TZID=America/New_York:20260116T120000
DTEND;TZID=America/New_York:20260116T130000
LOCATION:Davis Mansion at Morven Park \, 17195 Southern Planter Land \, Lee
 sburg \, VA 20176 US
SUMMARY:Members-Only Lunch & Learn: Guardians of History: Inside the Davis 
 Mansion Annual Deep-Clean Process
END:VEVENT
END:VCALENDAR
