BEGIN:VCALENDAR
VERSION:2.0
PRODID:-//www.morvenpark.org//NONSGML kigkonsult.se iCalcreator 2.30.10//
CALSCALE:GREGORIAN
METHOD:PUBLISH
UID:581ee1d0-91be-47c1-89ba-8f40ebd30baa
X-WR-CALDESC:
X-WR-RELCALID:4183e6cc6e36aab93bb9a6359dcf6fe1
X-WR-TIMEZONE:America/New_York
BEGIN:VTIMEZONE
TZID:America/New_York
BEGIN:STANDARD
TZNAME:EST
DTSTART:20251102T020000
TZOFFSETFROM:-0400
TZOFFSETTO:-0500
RDATE:20261101T020000
END:STANDARD
BEGIN:DAYLIGHT
TZNAME:EDT
DTSTART:20250309T020000
TZOFFSETFROM:-0500
TZOFFSETTO:-0400
RDATE:20260308T020000
RDATE:20270314T020000
END:DAYLIGHT
END:VTIMEZONE
BEGIN:VEVENT
UID:395b8cf5-0d9b-4b90-adcb-b17e8f732cc8
DTSTAMP:20260424T125608Z
DESCRIPTION:
DTSTART;TZID=America/New_York:20260221T090000
DTEND;TZID=America/New_York:20260221T160000
LOCATION:41580 Sunday Morning Lane\, Leesburg\, VA 20178 US
SUMMARY:Schooling Days in the Park: Jumper Rounds
END:VEVENT
END:VCALENDAR
