BEGIN:VCALENDAR
VERSION:2.0
PRODID:-//www.morvenpark.org//NONSGML kigkonsult.se iCalcreator 2.30.10//
CALSCALE:GREGORIAN
METHOD:PUBLISH
UID:882fa5b4-9943-4d20-bb5f-db7c5e84ba06
X-WR-CALDESC:
X-WR-RELCALID:cfb835617a1543805577eede4daf3f10
X-WR-TIMEZONE:America/New_York
BEGIN:VTIMEZONE
TZID:America/New_York
BEGIN:STANDARD
TZNAME:EST
DTSTART:20251102T020000
TZOFFSETFROM:-0400
TZOFFSETTO:-0500
RDATE:20261101T020000
END:STANDARD
BEGIN:DAYLIGHT
TZNAME:EDT
DTSTART:20250309T020000
TZOFFSETFROM:-0500
TZOFFSETTO:-0400
RDATE:20260308T020000
RDATE:20270314T020000
END:DAYLIGHT
END:VTIMEZONE
BEGIN:VEVENT
UID:bd61d7da-cfa7-4e51-9277-e89880d48542
DTSTAMP:20260424T084041Z
DESCRIPTION:
DTSTART;TZID=America/New_York:20260307T080000
DTEND;TZID=America/New_York:20260307T160000
LOCATION:41580 Sunday Morning Lane\, Leesburg\, VA 20178 US
SUMMARY:Schooling Days in the Park: Jumper Rounds
END:VEVENT
END:VCALENDAR
