BEGIN:VCALENDAR
VERSION:2.0
PRODID:-//www.morvenpark.org//NONSGML kigkonsult.se iCalcreator 2.30.10//
CALSCALE:GREGORIAN
METHOD:PUBLISH
UID:5fc4104b-a620-419f-9e9e-0a0a6e253e63
X-WR-CALDESC:
X-WR-RELCALID:eaf6a530a8c97243507bd6eb1e1591b7
X-WR-TIMEZONE:America/New_York
BEGIN:VTIMEZONE
TZID:America/New_York
BEGIN:STANDARD
TZNAME:EST
DTSTART:20251102T020000
TZOFFSETFROM:-0400
TZOFFSETTO:-0500
RDATE:20261101T020000
END:STANDARD
BEGIN:DAYLIGHT
TZNAME:EDT
DTSTART:20260308T020000
TZOFFSETFROM:-0500
TZOFFSETTO:-0400
RDATE:20270314T020000
END:DAYLIGHT
END:VTIMEZONE
BEGIN:VEVENT
UID:8438e885-7d5e-49a7-a60a-d866969f1310
DTSTAMP:20260422T052016Z
DESCRIPTION:
DTSTART;TZID=America/New_York:20260310T060000
DTEND;TZID=America/New_York:20260310T060001
LOCATION:https://www.givechoose.org/
SUMMARY:Give Choose EARLY GIVING KICKOFF
END:VEVENT
END:VCALENDAR
