BEGIN:VCALENDAR
VERSION:2.0
PRODID:-//www.morvenpark.org//NONSGML kigkonsult.se iCalcreator 2.30.10//
CALSCALE:GREGORIAN
METHOD:PUBLISH
UID:8130d9db-1edb-4617-b091-88339ba4d54f
X-WR-CALDESC:
X-WR-RELCALID:2c3ee78e6a56ca61a8e235a746fb94ff
X-WR-TIMEZONE:America/New_York
BEGIN:VTIMEZONE
TZID:America/New_York
BEGIN:STANDARD
TZNAME:EST
DTSTART:20251102T020000
TZOFFSETFROM:-0400
TZOFFSETTO:-0500
RDATE:20261101T020000
END:STANDARD
BEGIN:DAYLIGHT
TZNAME:EDT
DTSTART:20260308T020000
TZOFFSETFROM:-0500
TZOFFSETTO:-0400
RDATE:20270314T020000
END:DAYLIGHT
END:VTIMEZONE
BEGIN:VEVENT
UID:fc03536c-ca4c-49ea-b7e9-29fd6982f0bf
DTSTAMP:20260422T053002Z
DESCRIPTION:
DTSTART;TZID=America/New_York:20260313T120000
DTEND;TZID=America/New_York:20260313T130000
LOCATION:The Davis Mansion at Morven Park \, 17195 Southern Planter Lane \,
  Leesburg\, AL 20176 US
SUMMARY:Members-Only Lunch & Learn: Growing Forward- How Morven Park Farms 
 Today
END:VEVENT
END:VCALENDAR
