BEGIN:VCALENDAR
VERSION:2.0
PRODID:-//www.morvenpark.org//NONSGML kigkonsult.se iCalcreator 2.30.10//
CALSCALE:GREGORIAN
METHOD:PUBLISH
UID:b8f8ae8a-2584-4fd3-a46f-b4bc927aca11
X-WR-CALDESC:Join the Education Team for a fun and inspiring look at how th
 e Morven Park Center for Civic Impact brought its most popular lesson\, Po
 llinator Heroes: Monarch Butterflies\, to life! Learn how this lesson was 
 designed\, updated\, and digitized to meet educators' needs\, while our yo
 ungest Park Members (bring your kids!) try out the activities.
X-WR-RELCALID:f41fbe4001de22099418d85d21d02b24
X-WR-TIMEZONE:America/New_York
BEGIN:VTIMEZONE
TZID:America/New_York
BEGIN:STANDARD
TZNAME:EST
DTSTART:20251102T020000
TZOFFSETFROM:-0400
TZOFFSETTO:-0500
RDATE:20261101T020000
RDATE:20271107T020000
END:STANDARD
BEGIN:DAYLIGHT
TZNAME:EDT
DTSTART:20260308T020000
TZOFFSETFROM:-0500
TZOFFSETTO:-0400
RDATE:20270314T020000
END:DAYLIGHT
END:VTIMEZONE
BEGIN:VEVENT
UID:2e18afab-a140-4cde-8641-464d444348a6
DTSTAMP:20260424T125609Z
DESCRIPTION:Join the Education Team for a fun and inspiring look at how the
  Morven Park Center for Civic Impact brought its most popular lesson\, Pol
 linator Heroes: Monarch Butterflies\, to life! Learn how this lesson was d
 esigned\, updated\, and digitized to meet educators' needs\, while our you
 ngest Park Members (bring your kids!) try out the activities.
DTSTART;TZID=America/New_York:20260618T120000
DTEND;TZID=America/New_York:20260618T130000
LOCATION:The Davis Mansion at Morven Park \, 17195 Southern Planter Lane\, 
 Leesburg \, VA 20176 US
SUMMARY:Members-Only: Pollinators in Action! Learning\, Doing\, and Making 
 a Difference through MPCCI's Pollinator Heroes: Monarch Butterflies.
END:VEVENT
END:VCALENDAR
