BEGIN:VCALENDAR
VERSION:2.0
PRODID:-//www.morvenpark.org//NONSGML kigkonsult.se iCalcreator 2.30.10//
CALSCALE:GREGORIAN
METHOD:PUBLISH
UID:acb9aceb-255e-4cd6-9fb3-2f68c58c4015
X-WR-CALDESC:
X-WR-RELCALID:7438ad9971c3b5028359421cd462e455
X-WR-TIMEZONE:America/New_York
BEGIN:VTIMEZONE
TZID:America/New_York
BEGIN:STANDARD
TZNAME:EST
DTSTART:20251102T020000
TZOFFSETFROM:-0400
TZOFFSETTO:-0500
RDATE:20261101T020000
RDATE:20271107T020000
END:STANDARD
BEGIN:DAYLIGHT
TZNAME:EDT
DTSTART:20260308T020000
TZOFFSETFROM:-0500
TZOFFSETTO:-0400
RDATE:20270314T020000
END:DAYLIGHT
END:VTIMEZONE
BEGIN:VEVENT
UID:c92e1c75-9489-4b65-b399-b79eea1168ec
DTSTAMP:20260424T125302Z
DESCRIPTION:
DTSTART;TZID=America/New_York:20260620T180000
DTEND;TZID=America/New_York:20260620T220000
LOCATION:41580 Sunday Morning Lane\, Morven Park International Equestrian C
 enter\, Leesburg\, VA 20178 US
SUMMARY:Polo in the Park
END:VEVENT
END:VCALENDAR
