BEGIN:VCALENDAR
VERSION:2.0
PRODID:-//www.morvenpark.org//NONSGML kigkonsult.se iCalcreator 2.30.10//
CALSCALE:GREGORIAN
METHOD:PUBLISH
UID:2665efca-328c-4644-b4b6-eea4ec4f68a6
X-WR-CALDESC:
X-WR-RELCALID:a8b1c2da6a3ed57f74bd123aa359f38f
X-WR-TIMEZONE:America/New_York
BEGIN:VTIMEZONE
TZID:America/New_York
BEGIN:STANDARD
TZNAME:EST
DTSTART:20251102T020000
TZOFFSETFROM:-0400
TZOFFSETTO:-0500
RDATE:20261101T020000
RDATE:20271107T020000
END:STANDARD
BEGIN:DAYLIGHT
TZNAME:EDT
DTSTART:20260308T020000
TZOFFSETFROM:-0500
TZOFFSETTO:-0400
RDATE:20270314T020000
END:DAYLIGHT
END:VTIMEZONE
BEGIN:VEVENT
UID:d9d864b0-5ccd-435c-8d21-288c3c488ed8
DTSTAMP:20260424T143401Z
DESCRIPTION:
DTSTART;TZID=America/New_York:20260711T180000
DTEND;TZID=America/New_York:20260711T220000
LOCATION:41580 Sunday Morning Lane\, Morven Park International Equestrian C
 enter\, Leesburg\, VA 20178 US
SUMMARY:Polo in the Park
END:VEVENT
END:VCALENDAR
