BEGIN:VCALENDAR
VERSION:2.0
PRODID:-//www.morvenpark.org//NONSGML kigkonsult.se iCalcreator 2.30.10//
CALSCALE:GREGORIAN
METHOD:PUBLISH
UID:0e8defee-60e2-44f3-a04c-71af2ff0c76a
X-WR-CALDESC:To celebrate our nation’s 250th anniversary\, join us in the D
 avis Mansion Ballroom for this month’s presentation. Nations are defined b
 y ideas\, industry\, and buildings. When America broke from England\, the 
 new nation sought an architectural style that embodied its concepts of dem
 ocracy and equality. Jana Shafagoj will lead an exploration of the ideas a
 nd plans for our nation's new capital city.
X-WR-RELCALID:2133b2183669ae3e64cbe087b66eb27f
X-WR-TIMEZONE:America/New_York
BEGIN:VTIMEZONE
TZID:America/New_York
BEGIN:STANDARD
TZNAME:EST
DTSTART:20251102T020000
TZOFFSETFROM:-0400
TZOFFSETTO:-0500
RDATE:20261101T020000
RDATE:20271107T020000
END:STANDARD
BEGIN:DAYLIGHT
TZNAME:EDT
DTSTART:20260308T020000
TZOFFSETFROM:-0500
TZOFFSETTO:-0400
RDATE:20270314T020000
END:DAYLIGHT
END:VTIMEZONE
BEGIN:VEVENT
UID:d7540bbf-8a4d-4a6f-8e86-f92c8a970f62
DTSTAMP:20260424T154303Z
DESCRIPTION:To celebrate our nation’s 250th anniversary\, join us in the Da
 vis Mansion Ballroom for this month’s presentation. Nations are defined by
  ideas\, industry\, and buildings. When America broke from England\, the n
 ew nation sought an architectural style that embodied its concepts of demo
 cracy and equality. Jana Shafagoj will lead an exploration of the ideas an
 d plans for our nation's new capital city.
DTSTART;TZID=America/New_York:20260717T120000
DTEND;TZID=America/New_York:20260717T133000
LOCATION:The Davis Mansion at Morven Park \, 17195 Southern Planter Lane \,
  Leesburg\, VA 20176 US
SUMMARY:Members-Only Lunch & Learn: Imagining a Capital- How the New Federa
 l City Took Shape
END:VEVENT
END:VCALENDAR
