BEGIN:VCALENDAR
VERSION:2.0
PRODID:-//www.morvenpark.org//NONSGML kigkonsult.se iCalcreator 2.30.10//
CALSCALE:GREGORIAN
METHOD:PUBLISH
UID:e768240e-71d7-41a1-9d5d-866ff48646e9
X-WR-CALDESC:
X-WR-RELCALID:d8889b0cf9ffc5af0a2263a5a663e5f6
X-WR-TIMEZONE:America/New_York
BEGIN:VTIMEZONE
TZID:America/New_York
BEGIN:STANDARD
TZNAME:EST
DTSTART:20251102T020000
TZOFFSETFROM:-0400
TZOFFSETTO:-0500
RDATE:20261101T020000
RDATE:20271107T020000
END:STANDARD
BEGIN:DAYLIGHT
TZNAME:EDT
DTSTART:20260308T020000
TZOFFSETFROM:-0500
TZOFFSETTO:-0400
RDATE:20270314T020000
END:DAYLIGHT
END:VTIMEZONE
BEGIN:VEVENT
UID:674383a8-5d09-4f50-a08d-5eeae6bf24ad
DTSTAMP:20260424T144519Z
DESCRIPTION:
DTSTART;TZID=America/New_York:20260718T180000
DTEND;TZID=America/New_York:20260718T220000
LOCATION:41580 Sunday Morning Lane\, Morven Park International Equestrian C
 enter\, Leesburg\, VA 20178 US
SUMMARY:Polo in the Park
END:VEVENT
END:VCALENDAR
