BEGIN:VCALENDAR
VERSION:2.0
PRODID:-//www.morvenpark.org//NONSGML kigkonsult.se iCalcreator 2.30.10//
CALSCALE:GREGORIAN
METHOD:PUBLISH
UID:48d0eaf8-b485-4475-b923-34da933e0535
X-WR-CALDESC:
X-WR-RELCALID:a463e20983d91cf24a73dd9bb8111f5e
X-WR-TIMEZONE:America/New_York
BEGIN:VTIMEZONE
TZID:America/New_York
BEGIN:STANDARD
TZNAME:EST
DTSTART:20251102T020000
TZOFFSETFROM:-0400
TZOFFSETTO:-0500
RDATE:20261101T020000
RDATE:20271107T020000
END:STANDARD
BEGIN:DAYLIGHT
TZNAME:EDT
DTSTART:20260308T020000
TZOFFSETFROM:-0500
TZOFFSETTO:-0400
RDATE:20270314T020000
END:DAYLIGHT
END:VTIMEZONE
BEGIN:VEVENT
UID:b857bde5-59b3-4358-8ffa-b1a216bfa8f3
DTSTAMP:20260424T163155Z
DESCRIPTION:
DTSTART;TZID=America/New_York:20260821T120000
DTEND;TZID=America/New_York:20260821T130000
LOCATION:The Davis Mansion at Morven Park \, 17195 Southern Planter Lane \,
  Leesburg\, VA 20176 US
SUMMARY:Members-Only Lunch & Learn: Are you Smarter than a Student from 192
 6
END:VEVENT
END:VCALENDAR
