BEGIN:VCALENDAR
VERSION:2.0
PRODID:-//www.morvenpark.org//NONSGML kigkonsult.se iCalcreator 2.30.10//
CALSCALE:GREGORIAN
METHOD:PUBLISH
UID:09aae9f8-db80-423a-910f-004d2ab6194f
X-WR-CALDESC:
X-WR-RELCALID:d22a3b4013fb17dfed899b10a9092128
X-WR-TIMEZONE:America/New_York
BEGIN:VTIMEZONE
TZID:America/New_York
BEGIN:STANDARD
TZNAME:EST
DTSTART:20251102T020000
TZOFFSETFROM:-0400
TZOFFSETTO:-0500
RDATE:20261101T020000
RDATE:20271107T020000
END:STANDARD
BEGIN:DAYLIGHT
TZNAME:EDT
DTSTART:20260308T020000
TZOFFSETFROM:-0500
TZOFFSETTO:-0400
RDATE:20270314T020000
RDATE:20280312T020000
END:DAYLIGHT
END:VTIMEZONE
BEGIN:VEVENT
UID:a13d755a-cee2-44a4-8b04-3aea0f642649
DTSTAMP:20260424T222736Z
DESCRIPTION:
DTSTART;TZID=America/New_York:20260920T110000
DTEND;TZID=America/New_York:20260920T123000
LOCATION:The Davis Mansion at Morven Park \, 17195 Southern Planter Lane\, 
 Leesburg\, VA 20176 US
SUMMARY:Davis Mansion Specialty Tour - Nooks & Crannies
END:VEVENT
END:VCALENDAR
