BEGIN:VCALENDAR
VERSION:2.0
PRODID:-//www.morvenpark.org//NONSGML kigkonsult.se iCalcreator 2.30.10//
CALSCALE:GREGORIAN
METHOD:PUBLISH
UID:7d437967-00ea-404b-8487-df30843abfa7
X-WR-CALDESC:
X-WR-RELCALID:6f3afad7eab30e6dadd5abb6f5f5a8ef
X-WR-TIMEZONE:America/New_York
BEGIN:VTIMEZONE
TZID:America/New_York
BEGIN:STANDARD
TZNAME:EST
DTSTART:20251102T020000
TZOFFSETFROM:-0400
TZOFFSETTO:-0500
RDATE:20261101T020000
RDATE:20271107T020000
END:STANDARD
BEGIN:DAYLIGHT
TZNAME:EDT
DTSTART:20260308T020000
TZOFFSETFROM:-0500
TZOFFSETTO:-0400
RDATE:20270314T020000
RDATE:20280312T020000
END:DAYLIGHT
END:VTIMEZONE
BEGIN:VEVENT
UID:c6f6f4a2-03b7-4b8a-ae55-11013ffedff2
DTSTAMP:20260424T232307Z
DESCRIPTION:
DTSTART;TZID=America/New_York:20261007T080000
DTEND;TZID=America/New_York:20261011T170000
LOCATION:41580 Sunday Morning Lane\, Leesburg\, VA 20178 US
SUMMARY:Morven Park International
END:VEVENT
END:VCALENDAR
