BEGIN:VCALENDAR
VERSION:2.0
PRODID:-//www.morvenpark.org//NONSGML kigkonsult.se iCalcreator 2.30.10//
CALSCALE:GREGORIAN
METHOD:PUBLISH
UID:9980d22e-538e-4d4a-b90d-c3e08cc47ba5
X-WR-CALDESC:
X-WR-RELCALID:0b5736564da4da3b947c80998117250d
X-WR-TIMEZONE:America/New_York
BEGIN:VTIMEZONE
TZID:America/New_York
BEGIN:STANDARD
TZNAME:EST
DTSTART:20251102T020000
TZOFFSETFROM:-0400
TZOFFSETTO:-0500
RDATE:20261101T020000
END:STANDARD
BEGIN:DAYLIGHT
TZNAME:EDT
DTSTART:20260308T020000
TZOFFSETFROM:-0500
TZOFFSETTO:-0400
RDATE:20270314T020000
END:DAYLIGHT
END:VTIMEZONE
BEGIN:VEVENT
UID:74876e56-c0c8-4271-b578-e3e4bb7d3129
DTSTAMP:20260422T035918Z
DESCRIPTION:
DTSTART;TZID=America/New_York:20260410T160000
DTEND;TZID=America/New_York:20260410T180000
LOCATION:The Davis Mansion at Morven Park \, 17195 Southern Planter Lane\, 
 Leesburg\, VA 20176 US
SUMMARY:Prom Photoshoots
END:VEVENT
END:VCALENDAR
