BEGIN:VCALENDAR
VERSION:2.0
PRODID:-//www.morvenpark.org//NONSGML kigkonsult.se iCalcreator 2.30.10//
CALSCALE:GREGORIAN
METHOD:PUBLISH
UID:e514e03e-be8f-4c11-9e3f-f6858cc03477
X-WR-CALDESC:
X-WR-RELCALID:9b1a69a895a0f7aaf390c8d6eeca3f2c
X-WR-TIMEZONE:America/New_York
BEGIN:VTIMEZONE
TZID:America/New_York
BEGIN:STANDARD
TZNAME:EST
DTSTART:20251102T020000
TZOFFSETFROM:-0400
TZOFFSETTO:-0500
RDATE:20261101T020000
END:STANDARD
BEGIN:DAYLIGHT
TZNAME:EDT
DTSTART:20260308T020000
TZOFFSETFROM:-0500
TZOFFSETTO:-0400
RDATE:20270314T020000
END:DAYLIGHT
END:VTIMEZONE
BEGIN:VEVENT
UID:891dd2c6-72de-462b-af99-67e73567ca94
DTSTAMP:20260422T040047Z
DESCRIPTION:
DTSTART;TZID=America/New_York:20260411T090000
DTEND;TZID=America/New_York:20260411T140000
LOCATION:17195 Southern Planter Lane\, Leesburg\, VA 20176 US
SUMMARY:Loudoun Wildlife Conservancy Spring Native Plant Sale
END:VEVENT
END:VCALENDAR
