BEGIN:VCALENDAR
VERSION:2.0
PRODID:-//www.morvenpark.org//NONSGML kigkonsult.se iCalcreator 2.30.10//
CALSCALE:GREGORIAN
METHOD:PUBLISH
UID:00e81e01-4a44-4765-891d-423a0d6e20a6
X-WR-CALDESC:
X-WR-RELCALID:1467fe37d613d52ba5341efdad30c4db
X-WR-TIMEZONE:America/New_York
BEGIN:VTIMEZONE
TZID:America/New_York
BEGIN:STANDARD
TZNAME:EST
DTSTART:20251102T020000
TZOFFSETFROM:-0400
TZOFFSETTO:-0500
RDATE:20261101T020000
END:STANDARD
BEGIN:DAYLIGHT
TZNAME:EDT
DTSTART:20260308T020000
TZOFFSETFROM:-0500
TZOFFSETTO:-0400
RDATE:20270314T020000
END:DAYLIGHT
END:VTIMEZONE
BEGIN:VEVENT
UID:c1beb7b9-6292-46ec-8105-e21988f21031
DTSTAMP:20260422T035859Z
DESCRIPTION:
DTSTART;TZID=America/New_York:20260412T090000
DTEND;TZID=America/New_York:20260412T170000
LOCATION:Forest Trail\, 41580 Sunday Morning Lane\, Leesburg\, VA 20176 US
SUMMARY:Quantico Orienteering Club
END:VEVENT
END:VCALENDAR
