BEGIN:VCALENDAR
VERSION:2.0
PRODID:-//www.morvenpark.org//NONSGML kigkonsult.se iCalcreator 2.30.10//
CALSCALE:GREGORIAN
METHOD:PUBLISH
UID:d5e9e8cb-2a18-4eee-aacd-0919c722e360
X-WR-CALDESC:
X-WR-RELCALID:03df8b956d5bd1a448d3790f47b1919a
X-WR-TIMEZONE:America/New_York
BEGIN:VTIMEZONE
TZID:America/New_York
BEGIN:STANDARD
TZNAME:EST
DTSTART:20251102T020000
TZOFFSETFROM:-0400
TZOFFSETTO:-0500
RDATE:20261101T020000
END:STANDARD
BEGIN:DAYLIGHT
TZNAME:EDT
DTSTART:20260308T020000
TZOFFSETFROM:-0500
TZOFFSETTO:-0400
RDATE:20270314T020000
END:DAYLIGHT
END:VTIMEZONE
BEGIN:VEVENT
UID:2c444385-a9fc-4edb-83c4-90c59e5c7b12
DTSTAMP:20260422T035922Z
DESCRIPTION:
DTSTART;TZID=America/New_York:20260419T160000
DTEND;TZID=America/New_York:20260419T180000
LOCATION:The Davis Mansion at Morven Park \, 17195 Southern Planter Lane\, 
 Leesburg\, VA 20176 US
SUMMARY:Prom Photoshoots
END:VEVENT
END:VCALENDAR
