BEGIN:VCALENDAR
VERSION:2.0
PRODID:-//www.morvenpark.org//NONSGML kigkonsult.se iCalcreator 2.30.10//
CALSCALE:GREGORIAN
METHOD:PUBLISH
UID:5c927c30-6d3d-4520-8d26-e4548fb65495
X-WR-CALDESC:
X-WR-RELCALID:711aaedb2b156168febb8e1bcb7c4c52
X-WR-TIMEZONE:America/New_York
BEGIN:VTIMEZONE
TZID:America/New_York
BEGIN:STANDARD
TZNAME:EST
DTSTART:20251102T020000
TZOFFSETFROM:-0400
TZOFFSETTO:-0500
RDATE:20261101T020000
END:STANDARD
BEGIN:DAYLIGHT
TZNAME:EDT
DTSTART:20260308T020000
TZOFFSETFROM:-0500
TZOFFSETTO:-0400
RDATE:20270314T020000
END:DAYLIGHT
END:VTIMEZONE
BEGIN:VEVENT
UID:f8baf454-eb55-4734-92b1-ecdf9becd459
DTSTAMP:20260422T035859Z
DESCRIPTION:
DTSTART;TZID=America/New_York:20260425T160000
DTEND;TZID=America/New_York:20260425T180000
LOCATION:The Davis Mansion at Morven Park \, 17195 Southern Planter Lane\, 
 Leesburg\, VA 20176 US
SUMMARY:Prom Photoshoots
END:VEVENT
END:VCALENDAR
